BEGIN:VCALENDAR
VERSION:2.0
PRODID:-//Melbourne Jazz Co-op - ECPv4.8.0.1//NONSGML v1.0//EN
CALSCALE:GREGORIAN
METHOD:PUBLISH
X-WR-CALNAME:Melbourne Jazz Co-op
X-ORIGINAL-URL:http://mjc.org.au
X-WR-CALDESC:Events for Melbourne Jazz Co-op
BEGIN:VEVENT
DTSTART;TZID=Australia/Melbourne:20190317T203000
DTEND;TZID=Australia/Melbourne:20190317T223000
DTSTAMP:20190227T045400
CREATED:20190213T074801Z
LAST-MODIFIED:20190213T074801Z
UID:2271-1552854600-1552861800@mjc.org.au
SUMMARY:Tim Stevens Double Trio
DESCRIPTION:This double trio (piano\, bass\, drums\, violin\, viola\, cello) performs music written in 2014 to blend the ‘classical’ trio with the ‘jazz’ one. A chamber sensibility pervades the score\, which is not merely about string accompaniment of established jazz practice. The seven movements of the piece with whom you can be who you are dedicated to friends of Stevens’\, and they work to develop new formal contexts for improvisation. \nwith whom was released last year on Rufus Records. The ensemble features Madeleine Jevons (violin)\, Phoebe Green (viola)\, Naomi Wileman (cello)\, Ben Robertson (bass)\, Tony Floyd (drums)\, and Tim Stevens on piano\, and the performance will open with a trio set. \n
URL:http://mjc.org.au/gig/tim-stevens-double-trio/
LOCATION:The Jazzlab\, 27 Leslie Street (off Brunswick Street)\, Brunswick\, Victoria\, 3056\, Australia
CATEGORIES:Upcoming Gigs
ATTACH;FMTTYPE=image/jpeg:http://mjc.org.au/wp-content/uploads/2019/02/Tim-Stevens-Double-Trio-web.jpg
ORGANIZER;CN="Melbourne%20Jazz%20Co-op":MAILTO:melbournejazzcooperative@gmail.com
END:VEVENT
END:VCALENDAR