BEGIN:VCALENDAR
VERSION:2.0
PRODID:-//Melbourne Jazz Co-op - ECPv4.8.0.1//NONSGML v1.0//EN
CALSCALE:GREGORIAN
METHOD:PUBLISH
X-WR-CALNAME:Melbourne Jazz Co-op
X-ORIGINAL-URL:http://mjc.org.au
X-WR-CALDESC:Events for Melbourne Jazz Co-op
BEGIN:VEVENT
DTSTART;TZID=Australia/Melbourne:20190324T203000
DTEND;TZID=Australia/Melbourne:20190324T223000
DTSTAMP:20190227T045419
CREATED:20190213T074850Z
LAST-MODIFIED:20190213T074850Z
UID:2276-1553459400-1553466600@mjc.org.au
SUMMARY:David Rex Quintet
DESCRIPTION:Alto saxophonist David Rex makes a welcome return to the MJC roster after some extended forced breaks from performing (due to medical conditions). Since bursting onto the scene as a 17-year-old jazz saxophone prodigy\, Rex had firmly established himself on the Australian Jazz scene\, working with artists such as James Morrison and Barney McAll. In 2012 Rex released his third album\, Tour of Fate\, which was recorded in New York\, and featured Aaron Goldberg (piano)\, Reuben Rogers (bass) and Gregory Hutchinson (drums) performing Rex’s compositions. \nHe continues to impress audiences with his combination of prodigious technique and emotive musicality. On this performance he will be showcasing new originals with his latest group\, which reunites him with longtime colleague\, pianist Mark Fitzgibbon\, bassist (and sibling) Philip Rex\, and drummer Luke Andresen\, plus trumpeter Matt Jodrell. \n
URL:http://mjc.org.au/gig/david-rex-quintet/
LOCATION:The Jazzlab\, 27 Leslie Street (off Brunswick Street)\, Brunswick\, Victoria\, 3056\, Australia
CATEGORIES:Upcoming Gigs
ATTACH;FMTTYPE=image/jpeg:http://mjc.org.au/wp-content/uploads/2016/01/David-Rex.jpg
ORGANIZER;CN="Melbourne%20Jazz%20Co-op":MAILTO:melbournejazzcooperative@gmail.com
END:VEVENT
END:VCALENDAR