BEGIN:VCALENDAR
VERSION:2.0
PRODID:-//Melbourne Jazz Co-op - ECPv4.8.0.1//NONSGML v1.0//EN
CALSCALE:GREGORIAN
METHOD:PUBLISH
X-WR-CALNAME:Melbourne Jazz Co-op
X-ORIGINAL-URL:http://mjc.org.au
X-WR-CALDESC:Events for Melbourne Jazz Co-op
BEGIN:VEVENT
DTSTART;TZID=UTC+0:20161127T203000
DTEND;TZID=UTC+0:20161127T223000
DTSTAMP:20190227T045041
CREATED:20161116T131243Z
LAST-MODIFIED:20161116T134126Z
UID:663-1480278600-1480285800@mjc.org.au
SUMMARY:DANIEL SUSNJAR QUARTET (Perth/Melbourne) – Debut
DESCRIPTION:Perth-based drummer Daniel Susnjar returned from the USA\, after earning his Masters and Doctorate at the University of Miami in 2013. Apart from his academic credentials\, Susnjar was able to perform and record with acclaimed artists including Chick Corea\, Pharrell Williams\, Bobby McFerrin\, Danilo Perez\, Dave Douglas\, Chris Potter\, and Arturo Sandoval.  Daniel Susnjar (drums/). won two Bell Awards in 2015 for Best Modern Album and Best Jazz Song. This quartet will perform all original compositions by Susnjar\, and features Julien Wilson (tenor sax)\, former Perth colleague Sam Anning (bass) and Harry Mitchell (an amazing young pianist from WA\, making his Melbourne debut). \nWebsite:www.danielsusnjar.com  \n
URL:http://mjc.org.au/gig/daniel-susnjar-quartet-perthmelbourne-debut/
LOCATION:Uptown Jazz Cafe\, 177 Brunswick St\, Fitzroy\, 3065
ATTACH;FMTTYPE=image/jpeg:http://mjc.org.au/wp-content/uploads/2016/11/Daniel-Susnjar.jpg
END:VEVENT
END:VCALENDAR