BEGIN:VCALENDAR
VERSION:2.0
PRODID:-//Melbourne Jazz Co-op - ECPv4.8.0.1//NONSGML v1.0//EN
CALSCALE:GREGORIAN
METHOD:PUBLISH
X-WR-CALNAME:Melbourne Jazz Co-op
X-ORIGINAL-URL:http://mjc.org.au
X-WR-CALDESC:Events for Melbourne Jazz Co-op
BEGIN:VEVENT
DTSTART;TZID=Australia/Melbourne:20190505T203000
DTEND;TZID=Australia/Melbourne:20190505T223000
DTSTAMP:20190227T045458
CREATED:20190213T074015Z
LAST-MODIFIED:20190214T005635Z
UID:2290-1557088200-1557095400@mjc.org.au
SUMMARY:Coursed Waters (Sydney) – Debut/CD Launch
DESCRIPTION:Coursed Waters is a contemporary quartet featuring Melbourne’s Freedman Fellowship winner James McLean on drums\, together with three Sydney-based musicians: Sam Gill (alto saxophone); Novak Manojlovic (piano) and Jacques Emery on (double bass). \nThey are launching their debut album on Earshift Records. \n \n
URL:http://mjc.org.au/gig/coursed-waters-sydney-debut-cd-launch/
LOCATION:The Jazzlab\, 27 Leslie Street (off Brunswick Street)\, Brunswick\, Victoria\, 3056\, Australia
CATEGORIES:Upcoming Gigs
ATTACH;FMTTYPE=image/jpeg:http://mjc.org.au/wp-content/uploads/2019/02/coursed-waters.jpg
ORGANIZER;CN="Melbourne%20Jazz%20Co-op":MAILTO:melbournejazzcooperative@gmail.com
END:VEVENT
END:VCALENDAR