BEGIN:VCALENDAR
VERSION:2.0
PRODID:-//Melbourne Jazz Co-op - ECPv4.8.0.1//NONSGML v1.0//EN
CALSCALE:GREGORIAN
METHOD:PUBLISH
X-WR-CALNAME:Melbourne Jazz Co-op
X-ORIGINAL-URL:http://mjc.org.au
X-WR-CALDESC:Events for Melbourne Jazz Co-op
BEGIN:VEVENT
DTSTART;TZID=UTC+0:20161204T203000
DTEND;TZID=UTC+0:20161204T230000
DTSTAMP:20190227T045143
CREATED:20161116T131908Z
LAST-MODIFIED:20161116T131908Z
UID:670-1480883400-1480892400@mjc.org.au
SUMMARY:ALL TALK
DESCRIPTION:All Talk is a forward-thinking trio formed by drummer (and 2016 Freedman Fellow) James McLean\, with guitarist Alistair McLean and bassist Chris Hale. They play a mixture of original compositions and original arrangements\, with a focus on the interplay between unconventional rhythmic structures\, free improvisation and textural soundscapes. Formed in 2012 as a workshop for their original music and unconventional rhythmic ideas\, All Talk released their debut album\, A Shorthand of Sensation\, in 2014. Since the departure to Europe of original bassist Sam Zerna\, All Talk has been on enforced hiatus. This will be their triumphant return\, featuring a mixture of old and new repertoire.  \nVisit https://all-talk.bandcamp.com/ & www.jamesmclean.info \n“(All Talk) sounds like no other guitar/bass/drums trio.” – John Shand  \n“Jazz is alive and growing in Australia\, and James McLean is new-generation proof” – Dr Richard Letts\, Director of the Music Trust \n
URL:http://mjc.org.au/gig/all-talk/
LOCATION:Uptown Jazz Cafe\, 177 Brunswick St\, Fitzroy\, 3065
ATTACH;FMTTYPE=image/jpeg:http://mjc.org.au/wp-content/uploads/2016/11/All-talk.jpg
END:VEVENT
END:VCALENDAR